BEGIN:VCALENDAR
VERSION:2.0
PRODID:-//eventon.com NONSGML v1.0//EN
CALSCALE:GREGORIAN
METHOD:PUBLISH
BEGIN:VEVENT
UID:69e9ecd622ed3
DTSTAMP:20260423T095638Z
DTSTART:20260115T110000Z
DTEND:20260115T130000Z
LOCATION:Pacesetter Homes - Heartland 3703 Maize Ave
SUMMARY:Keeping it Reel Class in Crandall\,  TX
DESCRIPTION:Keeping it Reel Class in Crandall\,  TX\nhttps://fraserrealesta
 temarketing.com/events/keeping-it-reel-class-in-crandall-tx/
URL:https://fraserrealestatemarketing.com/events/keeping-it-reel-class-in-crandall-tx/
END:VEVENT
END:VCALENDAR